{"text_format":"3","workbook":"xlsx","n_sheets":7,"sheets":["Anleitung","Zum ausdrucken","Waldaufnahmebogen 1","Waldaufnahmebogen 2","Waldaufnahmebogen 3","Zusammenstellung","Listenfelder"],"not_rendered":{"images":5,"defined_names":3,"comments":4},"read":"whole","date_system":"1900"}

{"sheet":"Anleitung","index":0,"n_rows":2,"n_cols":1,"rows_kept":2}
[]
["Verwendung des Waldaufnahmebogens"]

{"sheet":"Zum ausdrucken","index":1,"n_rows":44,"n_cols":7,"rows_kept":44,"merged":[[6,2,6,4],[43,4,43,5]]}
[null,"Waldaufnahmebogen"]
[]
[null,"Waldbesitzer:",{"$nulls":3},"Abteilung:"]
[]
[null,"Baumart:",{"$nulls":3},"Durchforstungsfläche:"]
[]
[null,"BHD (cm)","Anzahl",null,null,"Kreisfläche","Stückzahl"]
[null,7,{"$nulls":3},{"$f":"PI()/4*POWER(B8/100,2)","v":{"v":0.003848451000647497,"d":"0.0038 m²"}}]
[null,8,{"$nulls":3},{"v":0.005026548245743669,"d":"0.0050 m²"}]
[null,9,{"$nulls":3},{"v":6.3617251235193305E-3,"d":"0.0064 m²"}]
[null,10,{"$nulls":3},{"v":0.007853981633974483,"d":"0.0079 m²"}]
[null,11,{"$nulls":3},{"v":0.009503317777109124,"d":"0.0095 m²"}]
[null,12,{"$nulls":3},{"v":0.011309733552923255,"d":"0.0113 m²"}]
[null,13,{"$nulls":3},{"v":0.013273228961416878,"d":"0.0133 m²"}]
[null,14,{"$nulls":3},{"v":0.015393804002589988,"d":"0.0154 m²"}]
[null,15,{"$nulls":3},{"v":0.017671458676442587,"d":"0.0177 m²"}]
[null,16,{"$nulls":3},{"v":0.020106192982974676,"d":"0.0201 m²"}]
[null,17,{"$nulls":3},{"v":0.02269800692218626,"d":"0.0227 m²"}]
[null,18,{"$nulls":3},{"v":0.025446900494077322,"d":"0.0254 m²"}]
[null,19,{"$nulls":3},{"v":0.028352873698647883,"d":"0.0284 m²"}]
[null,20,{"$nulls":3},{"v":0.031415926535897934,"d":"0.0314 m²"}]
[null,21,{"$nulls":3},{"v":0.03463605900582747,"d":"0.0346 m²"}]
[null,22,{"$nulls":3},{"v":0.0380132711084365,"d":"0.0380 m²"}]
[null,23,{"$nulls":3},{"v":0.04154756284372502,"d":"0.0415 m²"}]
[null,24,{"$nulls":3},{"v":0.04523893421169302,"d":"0.0452 m²"}]
[null,25,{"$nulls":3},{"v":0.04908738521234052,"d":"0.0491 m²"}]
[null,26,{"$nulls":3},{"v":0.05309291584566751,"d":"0.0531 m²"}]
[null,27,{"$nulls":3},{"v":0.057255526111673984,"d":"0.0573 m²"}]
[null,28,{"$nulls":3},{"v":0.06157521601035995,"d":"0.0616 m²"}]
[null,29,{"$nulls":3},{"v":0.0660519855417254,"d":"0.0661 m²"}]
[null,30,{"$nulls":3},{"v":0.07068583470577035,"d":"0.0707 m²"}]
[null,31,{"$nulls":3},{"v":0.07547676350249478,"d":"0.0755 m²"}]
[null,32,{"$nulls":3},{"v":0.0804247719318987,"d":"0.0804 m²"}]
[null,33,{"$nulls":3},{"v":0.08552985999398213,"d":"0.0855 m²"}]
[null,34,{"$nulls":3},{"v":0.09079202768874504,"d":"0.0908 m²"}]
[null,35,{"$nulls":3},{"v":0.0962112750161874,"d":"0.0962 m²"}]
[null,36,{"$nulls":3},{"v":0.10178760197630929,"d":"0.1018 m²"}]
[null,37,{"$nulls":3},{"v":0.10752100856911066,"d":"0.1075 m²"}]
[null,38,{"$nulls":3},{"v":0.11341149479459153,"d":"0.1134 m²"}]
[null,39,{"$nulls":3},{"v":0.1194590606527519,"d":"0.1195 m²"}]
[null,40,{"$nulls":3},{"v":0.12566370614359174,"d":"0.1257 m²"}]
[]
[]
[null,"Durchschnittliche Höhe:"]

{"sheet":"Waldaufnahmebogen 1","index":2,"n_rows":58,"n_cols":8,"rows_kept":58,"merged":[[6,2,6,4],[44,4,44,5],[45,4,45,5],[47,4,47,5],[57,1,57,2]]}
[null,"Waldaufnahmebogen"]
[]
[null,"Waldbesitzer:",{"$nulls":3},"Abteilung:"]
[{"$nulls":7},"Hektar"]
[null,"Baumart:",{"$nulls":3},"Durchforstungsfläche:"]
[]
[null,"BHD (cm)","Anzahl",null,null,"Kreisfläche","Stückzahl","Kreisflächensumme"]
[null,7,{"$nulls":3},{"$f":"PI()/4*POWER(B8/100,2)","v":{"v":0.003848451000647497,"d":"0.0038 m²"}},null,{"$f":"IF(G8=\"\",\"\",F8*G8)","v":""}]
[null,8,{"$nulls":3},{"v":0.005026548245743669,"d":"0.0050 m²"},null,{"$f":"IF(G9=\"\",\"\",F9*G9)","v":""}]
[null,9,{"$nulls":3},{"v":6.3617251235193305E-3,"d":"0.0064 m²"},null,""]
[null,10,{"$nulls":3},{"v":0.007853981633974483,"d":"0.0079 m²"},null,""]
[null,11,{"$nulls":3},{"v":0.009503317777109124,"d":"0.0095 m²"},null,""]
[null,12,{"$nulls":3},{"v":0.011309733552923255,"d":"0.0113 m²"},null,""]
[null,13,{"$nulls":3},{"v":0.013273228961416878,"d":"0.0133 m²"},null,""]
[null,14,{"$nulls":3},{"v":0.015393804002589988,"d":"0.0154 m²"},null,""]
[null,15,{"$nulls":3},{"v":0.017671458676442587,"d":"0.0177 m²"},null,""]
[null,16,{"$nulls":3},{"v":0.020106192982974676,"d":"0.0201 m²"},null,""]
[null,17,{"$nulls":3},{"v":0.02269800692218626,"d":"0.0227 m²"},null,""]
[null,18,{"$nulls":3},{"v":0.025446900494077322,"d":"0.0254 m²"},null,""]
[null,19,{"$nulls":3},{"v":0.028352873698647883,"d":"0.0284 m²"},null,""]
[null,20,{"$nulls":3},{"v":0.031415926535897934,"d":"0.0314 m²"},null,""]
[null,21,{"$nulls":3},{"v":0.03463605900582747,"d":"0.0346 m²"},null,""]
[null,22,{"$nulls":3},{"v":0.0380132711084365,"d":"0.0380 m²"},null,""]
[null,23,{"$nulls":3},{"v":0.04154756284372502,"d":"0.0415 m²"},null,""]
[null,24,{"$nulls":3},{"v":0.04523893421169302,"d":"0.0452 m²"},null,""]
[null,25,{"$nulls":3},{"v":0.04908738521234052,"d":"0.0491 m²"},null,""]
[null,26,{"$nulls":3},{"v":0.05309291584566751,"d":"0.0531 m²"},null,""]
[null,27,{"$nulls":3},{"v":0.057255526111673984,"d":"0.0573 m²"},null,""]
[null,28,{"$nulls":3},{"v":0.06157521601035995,"d":"0.0616 m²"},null,""]
[null,29,{"$nulls":3},{"v":0.0660519855417254,"d":"0.0661 m²"},null,""]
[null,30,{"$nulls":3},{"v":0.07068583470577035,"d":"0.0707 m²"},null,""]
[null,31,{"$nulls":3},{"v":0.07547676350249478,"d":"0.0755 m²"},null,""]
[null,32,{"$nulls":3},{"v":0.0804247719318987,"d":"0.0804 m²"},null,""]
[null,33,{"$nulls":3},{"v":0.08552985999398213,"d":"0.0855 m²"},null,""]
[null,34,{"$nulls":3},{"v":0.09079202768874504,"d":"0.0908 m²"},null,""]
[null,35,{"$nulls":3},{"v":0.0962112750161874,"d":"0.0962 m²"},null,""]
[null,36,{"$nulls":3},{"v":0.10178760197630929,"d":"0.1018 m²"},null,""]
[null,37,{"$nulls":3},{"v":0.10752100856911066,"d":"0.1075 m²"},null,""]
[null,38,{"$nulls":3},{"v":0.11341149479459153,"d":"0.1134 m²"},null,""]
[null,39,{"$nulls":3},{"v":0.1194590606527519,"d":"0.1195 m²"},null,""]
[null,40,{"$nulls":3},{"v":0.12566370614359174,"d":"0.1257 m²"},null,""]
[{"$nulls":5},"Summe:",{"$f":"IF(SUM(G8:G41)=0,\"\",SUM(G8:G41))","v":""}]
[{"$nulls":5},"Summe:",null,{"$f":"IF(SUM(H8:H41)=0,\"\",SUM(H8:H41))","v":""}]
[]
[null,"Durchschnittliche Kreisfläche:",null,null,{"$f":"IF(G42=\"\",\"\",H43/G42)","v":""}]
[null,"Durchschnittlicher BHD:",null,null,{"$f":"IF(E45=\"\",\"\",SQRT(E45*4/PI())*100)","v":""}]
[]
[null,"Durchschnittliche Höhe:"]
[]
[null,"Berechnung der durchschnittlichen Stückmasse (Efm o.R.)"]
[]
[null,"Durchsch.\nKreisfl.",null,"Durchsch.\nHöhe",null,"Formzahl",null,"Ernteverlust (%)"]
[null,{"$f":"E45","v":""},"x",{"$f":"IF(E48=\"\",\"\",E48)","v":""},"x",null,"abzügl."]
[]
[null,"Stückmasse:",null,{"$f":"E45*E48*F53*(100-H53)/100","v":{"$error":"#VALUE!"}}]
[]
[null,"Durchforstungsansatz / ha",null,null,{"$f":"IF(G42*D55/H5=0,\"\",G42*D55/H5)","v":{"$error":"#VALUE!"}}]
[null,"Durchforstungs-\nmasse",null,{"$f":"IF(D5=\"\",\"\",D5)","v":""},{"$f":"IF(G42=\"\",\"\",D55*G42)","v":""}]

{"sheet":"Waldaufnahmebogen 2","index":3,"n_rows":58,"n_cols":8,"rows_kept":58,"merged":[[6,2,6,4],[44,4,44,5],[45,4,45,5],[47,4,47,5],[57,1,57,2]]}
[null,"Waldaufnahmebogen"]
[]
[null,"Waldbesitzer:",null,{"$f":"IF('Waldaufnahmebogen 1'!D3=\"\",\"\",'Waldaufnahmebogen 1'!D3)","v":""},null,"Abteilung:",null,{"$f":"IF('Waldaufnahmebogen 1'!H3=\"\",\"\",'Waldaufnahmebogen 1'!H3)","v":""}]
[{"$nulls":7},"Hektar"]
[null,"Baumart:",{"$nulls":3},"Durchforstungsfläche:",null,{"$f":"IF('Waldaufnahmebogen 1'!H5=\"\",\"\",'Waldaufnahmebogen 1'!H5)","v":""}]
[]
[null,"BHD (cm)","Anzahl",null,null,"Kreisfläche","Stückzahl","Kreisflächensumme"]
[null,7,{"$nulls":3},{"$f":"PI()/4*POWER(B8/100,2)","v":{"v":0.003848451000647497,"d":"0.0038 m²"}},null,{"$f":"IF(G8=\"\",\"\",F8*G8)","v":""}]
[null,8,{"$nulls":3},{"$f":"PI()/4*POWER(B9/100,2)","v":{"v":0.005026548245743669,"d":"0.0050 m²"}},null,{"$f":"IF(G9=\"\",\"\",F9*G9)","v":""}]
[null,9,{"$nulls":3},{"v":6.3617251235193305E-3,"d":"0.0064 m²"},null,""]
[null,10,{"$nulls":3},{"v":0.007853981633974483,"d":"0.0079 m²"},null,""]
[null,11,{"$nulls":3},{"v":0.009503317777109124,"d":"0.0095 m²"},null,""]
[null,12,{"$nulls":3},{"v":0.011309733552923255,"d":"0.0113 m²"},null,""]
[null,13,{"$nulls":3},{"v":0.013273228961416878,"d":"0.0133 m²"},null,""]
[null,14,{"$nulls":3},{"v":0.015393804002589988,"d":"0.0154 m²"},null,""]
[null,15,{"$nulls":3},{"v":0.017671458676442587,"d":"0.0177 m²"},null,""]
[null,16,{"$nulls":3},{"v":0.020106192982974676,"d":"0.0201 m²"},null,""]
[null,17,{"$nulls":3},{"v":0.02269800692218626,"d":"0.0227 m²"},null,""]
[null,18,{"$nulls":3},{"v":0.025446900494077322,"d":"0.0254 m²"},null,""]
[null,19,{"$nulls":3},{"v":0.028352873698647883,"d":"0.0284 m²"},null,""]
[null,20,{"$nulls":3},{"v":0.031415926535897934,"d":"0.0314 m²"},null,""]
[null,21,{"$nulls":3},{"v":0.03463605900582747,"d":"0.0346 m²"},null,""]
[null,22,{"$nulls":3},{"v":0.0380132711084365,"d":"0.0380 m²"},null,""]
[null,23,{"$nulls":3},{"v":0.04154756284372502,"d":"0.0415 m²"},null,""]
[null,24,{"$nulls":3},{"v":0.04523893421169302,"d":"0.0452 m²"},null,""]
[null,25,{"$nulls":3},{"v":0.04908738521234052,"d":"0.0491 m²"},null,""]
[null,26,{"$nulls":3},{"v":0.05309291584566751,"d":"0.0531 m²"},null,""]
[null,27,{"$nulls":3},{"v":0.057255526111673984,"d":"0.0573 m²"},null,""]
[null,28,{"$nulls":3},{"v":0.06157521601035995,"d":"0.0616 m²"},null,""]
[null,29,{"$nulls":3},{"v":0.0660519855417254,"d":"0.0661 m²"},null,""]
[null,30,{"$nulls":3},{"v":0.07068583470577035,"d":"0.0707 m²"},null,""]
[null,31,{"$nulls":3},{"v":0.07547676350249478,"d":"0.0755 m²"},null,""]
[null,32,{"$nulls":3},{"v":0.0804247719318987,"d":"0.0804 m²"},null,""]
[null,33,{"$nulls":3},{"v":0.08552985999398213,"d":"0.0855 m²"},null,""]
[null,34,{"$nulls":3},{"v":0.09079202768874504,"d":"0.0908 m²"},null,""]
[null,35,{"$nulls":3},{"v":0.0962112750161874,"d":"0.0962 m²"},null,""]
[null,36,{"$nulls":3},{"v":0.10178760197630929,"d":"0.1018 m²"},null,""]
[null,37,{"$nulls":3},{"v":0.10752100856911066,"d":"0.1075 m²"},null,""]
[null,38,{"$nulls":3},{"v":0.11341149479459153,"d":"0.1134 m²"},null,""]
[null,39,{"$nulls":3},{"v":0.1194590606527519,"d":"0.1195 m²"},null,""]
[null,40,{"$nulls":3},{"v":0.12566370614359174,"d":"0.1257 m²"},null,""]
[{"$nulls":5},"Summe:",{"$f":"IF(SUM(G8:G41)=0,\"\",SUM(G8:G41))","v":""}]
[{"$nulls":5},"Summe:",null,{"$f":"IF(SUM(H8:H41)=0,\"\",SUM(H8:H41))","v":""}]
[]
[null,"Durchschnittliche Kreisfläche:",null,null,{"$f":"IF(G42=\"\",\"\",H43/G42)","v":""}]
[null,"Durchschnittlicher BHD:",null,null,{"$f":"IF(E45=\"\",\"\",SQRT(E45*4/PI())*100)","v":""}]
[]
[null,"Durchschnittliche Höhe:"]
[]
[null,"Berechnung der durchschnittlichen Stückmasse (Efm o.R.)"]
[]
[null,"Durchsch.\nKreisfl.",null,"Durchsch.\nHöhe",null,"Formzahl",null,"Ernteverlust (%)"]
[null,{"$f":"E45","v":""},"x",{"$f":"IF(E48=\"\",\"\",E48)","v":""},"x",null,"abzügl."]
[]
[null,"Stückmasse:",null,{"$f":"E45*E48*F53*(100-H53)/100","v":{"$error":"#VALUE!"}}]
[]
[null,"Durchforstungsansatz / ha",null,null,{"$f":"IF(G42*D55/H5=0,\"\",G42*D55/H5)","v":{"$error":"#VALUE!"}}]
[null,"Durchforstungs-\nmasse",null,{"$f":"IF(D5=\"\",\"\",D5)","v":""},{"$f":"IF(G42=\"\",\"\",D55*G42)","v":""}]

{"sheet":"Waldaufnahmebogen 3","index":4,"n_rows":58,"n_cols":8,"rows_kept":58,"merged":[[6,2,6,4],[44,4,44,5],[45,4,45,5],[47,4,47,5],[57,1,57,2]]}
[null,"Waldaufnahmebogen"]
[]
[null,"Waldbesitzer:",null,{"$f":"IF('Waldaufnahmebogen 1'!D3=\"\",\"\",'Waldaufnahmebogen 1'!D3)","v":""},null,"Abteilung:",null,{"$f":"IF('Waldaufnahmebogen 1'!H3=\"\",\"\",'Waldaufnahmebogen 1'!H3)","v":""}]
[{"$nulls":7},"Hektar"]
[null,"Baumart:",{"$nulls":3},"Durchforstungsfläche:",null,{"$f":"IF('Waldaufnahmebogen 1'!H5=\"\",\"\",'Waldaufnahmebogen 1'!H5)","v":""}]
[]
[null,"BHD (cm)","Anzahl",null,null,"Kreisfläche","Stückzahl","Kreisflächensumme"]
[null,7,{"$nulls":3},{"$f":"PI()/4*POWER(B8/100,2)","v":{"v":0.003848451000647497,"d":"0.0038 m²"}},null,{"$f":"IF(G8=\"\",\"\",F8*G8)","v":""}]
[null,8,{"$nulls":3},{"$f":"PI()/4*POWER(B9/100,2)","v":{"v":0.005026548245743669,"d":"0.0050 m²"}},null,{"$f":"IF(G9=\"\",\"\",F9*G9)","v":""}]
[null,9,{"$nulls":3},{"v":6.3617251235193305E-3,"d":"0.0064 m²"},null,""]
[null,10,{"$nulls":3},{"v":0.007853981633974483,"d":"0.0079 m²"},null,""]
[null,11,{"$nulls":3},{"v":0.009503317777109124,"d":"0.0095 m²"},null,""]
[null,12,{"$nulls":3},{"v":0.011309733552923255,"d":"0.0113 m²"},null,""]
[null,13,{"$nulls":3},{"v":0.013273228961416878,"d":"0.0133 m²"},null,""]
[null,14,{"$nulls":3},{"v":0.015393804002589988,"d":"0.0154 m²"},null,""]
[null,15,{"$nulls":3},{"v":0.017671458676442587,"d":"0.0177 m²"},null,""]
[null,16,{"$nulls":3},{"v":0.020106192982974676,"d":"0.0201 m²"},null,""]
[null,17,{"$nulls":3},{"v":0.02269800692218626,"d":"0.0227 m²"},null,""]
[null,18,{"$nulls":3},{"v":0.025446900494077322,"d":"0.0254 m²"},null,""]
[null,19,{"$nulls":3},{"v":0.028352873698647883,"d":"0.0284 m²"},null,""]
[null,20,{"$nulls":3},{"v":0.031415926535897934,"d":"0.0314 m²"},null,""]
[null,21,{"$nulls":3},{"v":0.03463605900582747,"d":"0.0346 m²"},null,""]
[null,22,{"$nulls":3},{"v":0.0380132711084365,"d":"0.0380 m²"},null,""]
[null,23,{"$nulls":3},{"v":0.04154756284372502,"d":"0.0415 m²"},null,""]
[null,24,{"$nulls":3},{"v":0.04523893421169302,"d":"0.0452 m²"},null,""]
[null,25,{"$nulls":3},{"v":0.04908738521234052,"d":"0.0491 m²"},null,""]
[null,26,{"$nulls":3},{"v":0.05309291584566751,"d":"0.0531 m²"},null,""]
[null,27,{"$nulls":3},{"v":0.057255526111673984,"d":"0.0573 m²"},null,""]
[null,28,{"$nulls":3},{"v":0.06157521601035995,"d":"0.0616 m²"},null,""]
[null,29,{"$nulls":3},{"v":0.0660519855417254,"d":"0.0661 m²"},null,""]
[null,30,{"$nulls":3},{"v":0.07068583470577035,"d":"0.0707 m²"},null,""]
[null,31,{"$nulls":3},{"v":0.07547676350249478,"d":"0.0755 m²"},null,""]
[null,32,{"$nulls":3},{"v":0.0804247719318987,"d":"0.0804 m²"},null,""]
[null,33,{"$nulls":3},{"v":0.08552985999398213,"d":"0.0855 m²"},null,""]
[null,34,{"$nulls":3},{"v":0.09079202768874504,"d":"0.0908 m²"},null,""]
[null,35,{"$nulls":3},{"v":0.0962112750161874,"d":"0.0962 m²"},null,{"$f":"IF(G36=\"\",\"\",F36*G36)","v":""}]
[null,36,{"$nulls":3},{"v":0.10178760197630929,"d":"0.1018 m²"},null,""]
[null,37,{"$nulls":3},{"v":0.10752100856911066,"d":"0.1075 m²"},null,""]
[null,38,{"$nulls":3},{"v":0.11341149479459153,"d":"0.1134 m²"},null,""]
[null,39,{"$nulls":3},{"v":0.1194590606527519,"d":"0.1195 m²"},null,""]
[null,40,{"$nulls":3},{"v":0.12566370614359174,"d":"0.1257 m²"},null,""]
[{"$nulls":5},"Summe:",{"$f":"IF(SUM(G8:G41)=0,\"\",SUM(G8:G41))","v":""}]
[{"$nulls":5},"Summe:",null,{"$f":"IF(SUM(H8:H41)=0,\"\",SUM(H8:H41))","v":""}]
[]
[null,"Durchschnittliche Kreisfläche:",null,null,{"$f":"IF(G42=\"\",\"\",H43/G42)","v":""}]
[null,"Durchschnittlicher BHD:",null,null,{"$f":"IF(E45=\"\",\"\",SQRT(E45*4/PI())*100)","v":""}]
[]
[null,"Durchschnittliche Höhe:"]
[]
[null,"Berechnung der durchschnittlichen Stückmasse (Efm o.R.)"]
[]
[null,"Durchsch.\nKreisfl.",null,"Durchsch.\nHöhe",null,"Formzahl",null,"Ernteverlust (%)"]
[null,{"$f":"E45","v":""},"x",{"$f":"IF(E48=\"\",\"\",E48)","v":""},"x",null,"abzügl."]
[]
[null,"Stückmasse:",null,{"$f":"E45*E48*F53*(100-H53)/100","v":{"$error":"#VALUE!"}}]
[]
[null,"Durchforstungsansatz / ha",null,null,{"$f":"IF(G42*D55/H5=0,\"\",G42*D55/H5)","v":{"$error":"#VALUE!"}}]
[null,"Durchforstungs-\nmasse",null,{"$f":"IF(D5=\"\",\"\",D5)","v":""},{"$f":"IF(G42=\"\",\"\",D55*G42)","v":""}]

{"sheet":"Zusammenstellung","index":5,"n_rows":17,"n_cols":8,"rows_kept":17}
[null,"Waldaufnahmebogen Zusammenstellung"]
[]
[null,"Waldbesitzer:",null,{"$f":"IF('Waldaufnahmebogen 1'!D3=\"\",\"\",'Waldaufnahmebogen 1'!D3)","v":""},null,"Abteilung:",null,{"$f":"IF('Waldaufnahmebogen 1'!H3=\"\",\"\",'Waldaufnahmebogen 1'!H3)","v":""}]
[{"$nulls":7},"Hektar"]
[null,"Baumarten:",null,{"$f":"IF('Waldaufnahmebogen 1'!D5=\"\",\"\",'Waldaufnahmebogen 1'!D5)","v":""},null,"Durchforstungsfläche:",null,{"$f":"IF('Waldaufnahmebogen 1'!H5=\"\",\"\",'Waldaufnahmebogen 1'!H5)","v":""}]
[{"$nulls":3},{"$f":"IF('Waldaufnahmebogen 2'!D5=\"\",\"\",'Waldaufnahmebogen 2'!D5)","v":""}]
[{"$nulls":3},{"$f":"IF('Waldaufnahmebogen 3'!D5=\"\",\"\",'Waldaufnahmebogen 3'!D5)","v":""}]
[]
[]
[]
[]
[]
[null,"Baumart","Stückzahl","Durchschnittl.\nHöhe","Durchschnittl.\nBHD","Durch-forstungsmasse"]
[null,{"$f":"IF('Waldaufnahmebogen 1'!D5=\"\",\"\",'Waldaufnahmebogen 1'!D5)","v":""},{"$f":"'Waldaufnahmebogen 1'!G42","v":""},{"$f":"'Waldaufnahmebogen 1'!D53","v":""},{"$f":"'Waldaufnahmebogen 1'!E46:F46","v":""},{"$f":"IF('Waldaufnahmebogen 1'!E58=0,\"Daten fehlen!\",'Waldaufnahmebogen 1'!E58)","v":""}]
[null,{"$f":"IF('Waldaufnahmebogen 2'!D5=\"\",\"\",'Waldaufnahmebogen 2'!D5)","v":""},{"$f":"'Waldaufnahmebogen 2'!G42","v":""},{"$f":"'Waldaufnahmebogen 2'!D53","v":""},{"$f":"'Waldaufnahmebogen 2'!E46:F46","v":""},{"$f":"IF('Waldaufnahmebogen 2'!E58=0,\"Daten fehlen!\",'Waldaufnahmebogen 2'!E58)","v":""}]
[null,{"$f":"IF('Waldaufnahmebogen 3'!D5=\"\",\"\",'Waldaufnahmebogen 3'!D5)","v":""},{"$f":"'Waldaufnahmebogen 3'!G42","v":""},{"$f":"'Waldaufnahmebogen 3'!D53","v":""},{"$f":"'Waldaufnahmebogen 3'!E46:F46","v":""},{"$f":"IF('Waldaufnahmebogen 3'!E58=0,\"Daten fehlen!\",'Waldaufnahmebogen 3'!E58)","v":""}]
[null,"Summe:",{"$f":"IF(SUM(C14:C16)=0,\"\",SUM(C14:C16))","v":""},null,null,{"$f":"IF(SUM(F14:F16)=0,\"\",SUM(F14:F16))","v":""}]

{"sheet":"Listenfelder","index":6,"n_rows":7,"n_cols":3,"rows_kept":7,"hidden":true}
["Formzahl"]
["Nadelholz",0.45,"Nadelholz"]
["Laubholz",0.5,"Laubholz"]
[]
["Ernteverlust"]
[null,15]
[null,20]